BEGIN:VCALENDAR
VERSION:2.0
PRODID:-//wp-events-plugin.com//7.2.3.1//EN
TZID:America/Los_Angeles
X-WR-TIMEZONE:America/Los_Angeles
BEGIN:VEVENT
UID:3@southportland-arc.com
DTSTART;TZID=America/Los_Angeles:20260204T190000
DTEND;TZID=America/Los_Angeles:20260204T203000
DTSTAMP:20260423T141020Z
URL:https://southportland-arc.com/events/sparc-meeting/
SUMMARY:SPARC Meeting
DESCRIPTION:Our monthly SPARC meeting
LOCATION:DCS Morgan\, 1535 SE 3rd CT\, Canby\, OR\, 97013\, United States
X-APPLE-STRUCTURED-LOCATION;VALUE=URI;X-ADDRESS=1535 SE 3rd CT\, Canby\, OR
 \, 97013\, United States;X-APPLE-RADIUS=100;X-TITLE=DCS Morgan:geo:0,0
END:VEVENT
BEGIN:VEVENT
UID:23@southportland-arc.com
DTSTART;TZID=America/Los_Angeles:20260212T190000
DTEND;TZID=America/Los_Angeles:20260212T200000
DTSTAMP:20260423T141020Z
URL:https://southportland-arc.com/events/k2bsa-amateur-radio-association-k
 2bsa-net/
SUMMARY:K2BSA Amateur Radio Association (K2BSA) Net
DESCRIPTION:Club name: K2BSA Amateur Radio Association (K2BSA)\nEvent name:
  USA Radio Scouting Net - 9 PM Central — Echolink *JOTA-365* (#69808)\nE
 vent type: Net\nStart date: Thursday\, 2026-02-12 @ 19:00 PST\nEnd date: T
 hursday\, 2026-02-12 @ 20:00 PST\nLocation: Echolink *JOTA-365* (480809)\n
 \nEvent details:\nUSA Radio Scouting Net — open to all interested in sup
 porting amateur radio in Scouting. Topics include Jamboree on the Air\, Ja
 mboree amateur radio operation\, Radio Merit Badge\, Morse Code Interprete
 r Strip\, Summer Camp amateur radio activation\, ARRL Amateur Radio Servic
 e to Scouting Award\, Amateur Radio Operator Rating Strip\, and whatever t
 opic you bring to the net.\n\nLinks in this message are not to the net. Th
 is net uses Echolink software.\n\n&gt\;&gt\; To disable (or re-enable) rec
 eiving future event reminders for Net events click the following link:\nht
 tps://secure.hamclubonline.com/dne_events.php?id=25940299851235384&amp\;pi
 n=51274&amp\;cid=98&amp\;etid=424
CATEGORIES:Net
END:VEVENT
BEGIN:VEVENT
UID:4@southportland-arc.com
DTSTART;TZID=America/Los_Angeles:20260304T190000
DTEND;TZID=America/Los_Angeles:20260304T203000
DTSTAMP:20260423T141020Z
URL:https://southportland-arc.com/events/sparc-meeting/
SUMMARY:SPARC Meeting
DESCRIPTION:Our monthly SPARC meeting
LOCATION:DCS Morgan\, 1535 SE 3rd CT\, Canby\, OR\, 97013\, United States
X-APPLE-STRUCTURED-LOCATION;VALUE=URI;X-ADDRESS=1535 SE 3rd CT\, Canby\, OR
 \, 97013\, United States;X-APPLE-RADIUS=100;X-TITLE=DCS Morgan:geo:0,0
END:VEVENT
BEGIN:VEVENT
UID:24@southportland-arc.com
DTSTART;TZID=America/Los_Angeles:20260312T190000
DTEND;TZID=America/Los_Angeles:20260312T200000
DTSTAMP:20260423T141020Z
URL:https://southportland-arc.com/events/k2bsa-amateur-radio-association-k
 2bsa-net/
SUMMARY:K2BSA Amateur Radio Association (K2BSA) Net
DESCRIPTION:Club name: K2BSA Amateur Radio Association (K2BSA)\nEvent name:
  USA Radio Scouting Net - 9 PM Central — Echolink *JOTA-365* (#69808)\nE
 vent type: Net\nStart date: Thursday\, 2026-02-12 @ 19:00 PST\nEnd date: T
 hursday\, 2026-02-12 @ 20:00 PST\nLocation: Echolink *JOTA-365* (480809)\n
 \nEvent details:\nUSA Radio Scouting Net — open to all interested in sup
 porting amateur radio in Scouting. Topics include Jamboree on the Air\, Ja
 mboree amateur radio operation\, Radio Merit Badge\, Morse Code Interprete
 r Strip\, Summer Camp amateur radio activation\, ARRL Amateur Radio Servic
 e to Scouting Award\, Amateur Radio Operator Rating Strip\, and whatever t
 opic you bring to the net.\n\nLinks in this message are not to the net. Th
 is net uses Echolink software.\n\n&gt\;&gt\; To disable (or re-enable) rec
 eiving future event reminders for Net events click the following link:\nht
 tps://secure.hamclubonline.com/dne_events.php?id=25940299851235384&amp\;pi
 n=51274&amp\;cid=98&amp\;etid=424
CATEGORIES:Net
END:VEVENT
BEGIN:VEVENT
UID:21@southportland-arc.com
DTSTART;TZID=America/Los_Angeles:20260321T090000
DTEND;TZID=America/Los_Angeles:20260321T160000
DTSTAMP:20260209T191212Z
URL:https://southportland-arc.com/events/free-technician-license-class/
SUMMARY:Free Technician License Class
DESCRIPTION:
CATEGORIES:License Class
END:VEVENT
BEGIN:VEVENT
UID:5@southportland-arc.com
DTSTART;TZID=America/Los_Angeles:20260401T190000
DTEND;TZID=America/Los_Angeles:20260401T203000
DTSTAMP:20260423T141020Z
URL:https://southportland-arc.com/events/sparc-meeting/
SUMMARY:SPARC Meeting
DESCRIPTION:Our monthly SPARC meeting
LOCATION:DCS Morgan\, 1535 SE 3rd CT\, Canby\, OR\, 97013\, United States
X-APPLE-STRUCTURED-LOCATION;VALUE=URI;X-ADDRESS=1535 SE 3rd CT\, Canby\, OR
 \, 97013\, United States;X-APPLE-RADIUS=100;X-TITLE=DCS Morgan:geo:0,0
END:VEVENT
BEGIN:VEVENT
UID:16@southportland-arc.com
DTSTART;TZID=America/Los_Angeles:20260404T130000
DTEND;TZID=America/Los_Angeles:20260404T143000
DTSTAMP:20260423T141020Z
URL:https://southportland-arc.com/events/fcc-license-session/
SUMMARY:FCC License Session
DESCRIPTION:Amateur Radio license testing for Tech\, General and Extra clas
 ses.
CATEGORIES:License Session
LOCATION:Zoar Lutheran Church\, 190 SW 3rd Ave\, Canby\, OR\, 97013\, Unite
 d States
X-APPLE-STRUCTURED-LOCATION;VALUE=URI;X-ADDRESS=190 SW 3rd Ave\, Canby\, OR
 \, 97013\, United States;X-APPLE-RADIUS=100;X-TITLE=Zoar Lutheran Church:g
 eo:0,0
END:VEVENT
BEGIN:VEVENT
UID:25@southportland-arc.com
DTSTART;TZID=America/Los_Angeles:20260409T190000
DTEND;TZID=America/Los_Angeles:20260409T200000
DTSTAMP:20260423T141020Z
URL:https://southportland-arc.com/events/k2bsa-amateur-radio-association-k
 2bsa-net/
SUMMARY:K2BSA Amateur Radio Association (K2BSA) Net
DESCRIPTION:Club name: K2BSA Amateur Radio Association (K2BSA)\nEvent name:
  USA Radio Scouting Net - 9 PM Central — Echolink *JOTA-365* (#69808)\nE
 vent type: Net\nStart date: Thursday\, 2026-02-12 @ 19:00 PST\nEnd date: T
 hursday\, 2026-02-12 @ 20:00 PST\nLocation: Echolink *JOTA-365* (480809)\n
 \nEvent details:\nUSA Radio Scouting Net — open to all interested in sup
 porting amateur radio in Scouting. Topics include Jamboree on the Air\, Ja
 mboree amateur radio operation\, Radio Merit Badge\, Morse Code Interprete
 r Strip\, Summer Camp amateur radio activation\, ARRL Amateur Radio Servic
 e to Scouting Award\, Amateur Radio Operator Rating Strip\, and whatever t
 opic you bring to the net.\n\nLinks in this message are not to the net. Th
 is net uses Echolink software.\n\n&gt\;&gt\; To disable (or re-enable) rec
 eiving future event reminders for Net events click the following link:\nht
 tps://secure.hamclubonline.com/dne_events.php?id=25940299851235384&amp\;pi
 n=51274&amp\;cid=98&amp\;etid=424
CATEGORIES:Net
END:VEVENT
BEGIN:VEVENT
UID:6@southportland-arc.com
DTSTART;TZID=America/Los_Angeles:20260506T190000
DTEND;TZID=America/Los_Angeles:20260506T203000
DTSTAMP:20260423T141020Z
URL:https://southportland-arc.com/events/sparc-meeting/
SUMMARY:SPARC Meeting
DESCRIPTION:Our monthly SPARC meeting
LOCATION:DCS Morgan\, 1535 SE 3rd CT\, Canby\, OR\, 97013\, United States
X-APPLE-STRUCTURED-LOCATION;VALUE=URI;X-ADDRESS=1535 SE 3rd CT\, Canby\, OR
 \, 97013\, United States;X-APPLE-RADIUS=100;X-TITLE=DCS Morgan:geo:0,0
END:VEVENT
BEGIN:VEVENT
UID:26@southportland-arc.com
DTSTART;TZID=America/Los_Angeles:20260514T190000
DTEND;TZID=America/Los_Angeles:20260514T200000
DTSTAMP:20260423T141020Z
URL:https://southportland-arc.com/events/k2bsa-amateur-radio-association-k
 2bsa-net/
SUMMARY:K2BSA Amateur Radio Association (K2BSA) Net
DESCRIPTION:Club name: K2BSA Amateur Radio Association (K2BSA)\nEvent name:
  USA Radio Scouting Net - 9 PM Central — Echolink *JOTA-365* (#69808)\nE
 vent type: Net\nStart date: Thursday\, 2026-02-12 @ 19:00 PST\nEnd date: T
 hursday\, 2026-02-12 @ 20:00 PST\nLocation: Echolink *JOTA-365* (480809)\n
 \nEvent details:\nUSA Radio Scouting Net — open to all interested in sup
 porting amateur radio in Scouting. Topics include Jamboree on the Air\, Ja
 mboree amateur radio operation\, Radio Merit Badge\, Morse Code Interprete
 r Strip\, Summer Camp amateur radio activation\, ARRL Amateur Radio Servic
 e to Scouting Award\, Amateur Radio Operator Rating Strip\, and whatever t
 opic you bring to the net.\n\nLinks in this message are not to the net. Th
 is net uses Echolink software.\n\n&gt\;&gt\; To disable (or re-enable) rec
 eiving future event reminders for Net events click the following link:\nht
 tps://secure.hamclubonline.com/dne_events.php?id=25940299851235384&amp\;pi
 n=51274&amp\;cid=98&amp\;etid=424
CATEGORIES:Net
END:VEVENT
BEGIN:VEVENT
UID:7@southportland-arc.com
DTSTART;TZID=America/Los_Angeles:20260603T190000
DTEND;TZID=America/Los_Angeles:20260603T203000
DTSTAMP:20260423T141020Z
URL:https://southportland-arc.com/events/sparc-meeting/
SUMMARY:SPARC Meeting
DESCRIPTION:Our monthly SPARC meeting
LOCATION:DCS Morgan\, 1535 SE 3rd CT\, Canby\, OR\, 97013\, United States
X-APPLE-STRUCTURED-LOCATION;VALUE=URI;X-ADDRESS=1535 SE 3rd CT\, Canby\, OR
 \, 97013\, United States;X-APPLE-RADIUS=100;X-TITLE=DCS Morgan:geo:0,0
END:VEVENT
BEGIN:VEVENT
UID:17@southportland-arc.com
DTSTART;TZID=America/Los_Angeles:20260606T130000
DTEND;TZID=America/Los_Angeles:20260606T143000
DTSTAMP:20260423T141020Z
URL:https://southportland-arc.com/events/fcc-license-session/
SUMMARY:FCC License Session
DESCRIPTION:Amateur Radio license testing for Tech\, General and Extra clas
 ses.
CATEGORIES:License Session
LOCATION:Zoar Lutheran Church\, 190 SW 3rd Ave\, Canby\, OR\, 97013\, Unite
 d States
X-APPLE-STRUCTURED-LOCATION;VALUE=URI;X-ADDRESS=190 SW 3rd Ave\, Canby\, OR
 \, 97013\, United States;X-APPLE-RADIUS=100;X-TITLE=Zoar Lutheran Church:g
 eo:0,0
END:VEVENT
BEGIN:VEVENT
UID:27@southportland-arc.com
DTSTART;TZID=America/Los_Angeles:20260611T190000
DTEND;TZID=America/Los_Angeles:20260611T200000
DTSTAMP:20260423T141020Z
URL:https://southportland-arc.com/events/k2bsa-amateur-radio-association-k
 2bsa-net/
SUMMARY:K2BSA Amateur Radio Association (K2BSA) Net
DESCRIPTION:Club name: K2BSA Amateur Radio Association (K2BSA)\nEvent name:
  USA Radio Scouting Net - 9 PM Central — Echolink *JOTA-365* (#69808)\nE
 vent type: Net\nStart date: Thursday\, 2026-02-12 @ 19:00 PST\nEnd date: T
 hursday\, 2026-02-12 @ 20:00 PST\nLocation: Echolink *JOTA-365* (480809)\n
 \nEvent details:\nUSA Radio Scouting Net — open to all interested in sup
 porting amateur radio in Scouting. Topics include Jamboree on the Air\, Ja
 mboree amateur radio operation\, Radio Merit Badge\, Morse Code Interprete
 r Strip\, Summer Camp amateur radio activation\, ARRL Amateur Radio Servic
 e to Scouting Award\, Amateur Radio Operator Rating Strip\, and whatever t
 opic you bring to the net.\n\nLinks in this message are not to the net. Th
 is net uses Echolink software.\n\n&gt\;&gt\; To disable (or re-enable) rec
 eiving future event reminders for Net events click the following link:\nht
 tps://secure.hamclubonline.com/dne_events.php?id=25940299851235384&amp\;pi
 n=51274&amp\;cid=98&amp\;etid=424
CATEGORIES:Net
END:VEVENT
BEGIN:VEVENT
UID:8@southportland-arc.com
DTSTART;TZID=America/Los_Angeles:20260701T190000
DTEND;TZID=America/Los_Angeles:20260701T203000
DTSTAMP:20260423T141020Z
URL:https://southportland-arc.com/events/sparc-meeting/
SUMMARY:SPARC Meeting
DESCRIPTION:Our monthly SPARC meeting
LOCATION:DCS Morgan\, 1535 SE 3rd CT\, Canby\, OR\, 97013\, United States
X-APPLE-STRUCTURED-LOCATION;VALUE=URI;X-ADDRESS=1535 SE 3rd CT\, Canby\, OR
 \, 97013\, United States;X-APPLE-RADIUS=100;X-TITLE=DCS Morgan:geo:0,0
END:VEVENT
BEGIN:VEVENT
UID:28@southportland-arc.com
DTSTART;TZID=America/Los_Angeles:20260709T190000
DTEND;TZID=America/Los_Angeles:20260709T200000
DTSTAMP:20260423T141020Z
URL:https://southportland-arc.com/events/k2bsa-amateur-radio-association-k
 2bsa-net/
SUMMARY:K2BSA Amateur Radio Association (K2BSA) Net
DESCRIPTION:Club name: K2BSA Amateur Radio Association (K2BSA)\nEvent name:
  USA Radio Scouting Net - 9 PM Central — Echolink *JOTA-365* (#69808)\nE
 vent type: Net\nStart date: Thursday\, 2026-02-12 @ 19:00 PST\nEnd date: T
 hursday\, 2026-02-12 @ 20:00 PST\nLocation: Echolink *JOTA-365* (480809)\n
 \nEvent details:\nUSA Radio Scouting Net — open to all interested in sup
 porting amateur radio in Scouting. Topics include Jamboree on the Air\, Ja
 mboree amateur radio operation\, Radio Merit Badge\, Morse Code Interprete
 r Strip\, Summer Camp amateur radio activation\, ARRL Amateur Radio Servic
 e to Scouting Award\, Amateur Radio Operator Rating Strip\, and whatever t
 opic you bring to the net.\n\nLinks in this message are not to the net. Th
 is net uses Echolink software.\n\n&gt\;&gt\; To disable (or re-enable) rec
 eiving future event reminders for Net events click the following link:\nht
 tps://secure.hamclubonline.com/dne_events.php?id=25940299851235384&amp\;pi
 n=51274&amp\;cid=98&amp\;etid=424
CATEGORIES:Net
END:VEVENT
BEGIN:VEVENT
UID:18@southportland-arc.com
DTSTART;TZID=America/Los_Angeles:20260801T130000
DTEND;TZID=America/Los_Angeles:20260801T143000
DTSTAMP:20260423T141020Z
URL:https://southportland-arc.com/events/fcc-license-session/
SUMMARY:FCC License Session
DESCRIPTION:Amateur Radio license testing for Tech\, General and Extra clas
 ses.
CATEGORIES:License Session
LOCATION:Zoar Lutheran Church\, 190 SW 3rd Ave\, Canby\, OR\, 97013\, Unite
 d States
X-APPLE-STRUCTURED-LOCATION;VALUE=URI;X-ADDRESS=190 SW 3rd Ave\, Canby\, OR
 \, 97013\, United States;X-APPLE-RADIUS=100;X-TITLE=Zoar Lutheran Church:g
 eo:0,0
END:VEVENT
BEGIN:VEVENT
UID:9@southportland-arc.com
DTSTART;TZID=America/Los_Angeles:20260805T190000
DTEND;TZID=America/Los_Angeles:20260805T203000
DTSTAMP:20260423T141020Z
URL:https://southportland-arc.com/events/sparc-meeting/
SUMMARY:SPARC Meeting
DESCRIPTION:Our monthly SPARC meeting
LOCATION:DCS Morgan\, 1535 SE 3rd CT\, Canby\, OR\, 97013\, United States
X-APPLE-STRUCTURED-LOCATION;VALUE=URI;X-ADDRESS=1535 SE 3rd CT\, Canby\, OR
 \, 97013\, United States;X-APPLE-RADIUS=100;X-TITLE=DCS Morgan:geo:0,0
END:VEVENT
BEGIN:VEVENT
UID:29@southportland-arc.com
DTSTART;TZID=America/Los_Angeles:20260813T190000
DTEND;TZID=America/Los_Angeles:20260813T200000
DTSTAMP:20260423T141020Z
URL:https://southportland-arc.com/events/k2bsa-amateur-radio-association-k
 2bsa-net/
SUMMARY:K2BSA Amateur Radio Association (K2BSA) Net
DESCRIPTION:Club name: K2BSA Amateur Radio Association (K2BSA)\nEvent name:
  USA Radio Scouting Net - 9 PM Central — Echolink *JOTA-365* (#69808)\nE
 vent type: Net\nStart date: Thursday\, 2026-02-12 @ 19:00 PST\nEnd date: T
 hursday\, 2026-02-12 @ 20:00 PST\nLocation: Echolink *JOTA-365* (480809)\n
 \nEvent details:\nUSA Radio Scouting Net — open to all interested in sup
 porting amateur radio in Scouting. Topics include Jamboree on the Air\, Ja
 mboree amateur radio operation\, Radio Merit Badge\, Morse Code Interprete
 r Strip\, Summer Camp amateur radio activation\, ARRL Amateur Radio Servic
 e to Scouting Award\, Amateur Radio Operator Rating Strip\, and whatever t
 opic you bring to the net.\n\nLinks in this message are not to the net. Th
 is net uses Echolink software.\n\n&gt\;&gt\; To disable (or re-enable) rec
 eiving future event reminders for Net events click the following link:\nht
 tps://secure.hamclubonline.com/dne_events.php?id=25940299851235384&amp\;pi
 n=51274&amp\;cid=98&amp\;etid=424
CATEGORIES:Net
END:VEVENT
BEGIN:VEVENT
UID:10@southportland-arc.com
DTSTART;TZID=America/Los_Angeles:20260902T190000
DTEND;TZID=America/Los_Angeles:20260902T203000
DTSTAMP:20260423T141020Z
URL:https://southportland-arc.com/events/sparc-meeting/
SUMMARY:SPARC Meeting
DESCRIPTION:Our monthly SPARC meeting
LOCATION:DCS Morgan\, 1535 SE 3rd CT\, Canby\, OR\, 97013\, United States
X-APPLE-STRUCTURED-LOCATION;VALUE=URI;X-ADDRESS=1535 SE 3rd CT\, Canby\, OR
 \, 97013\, United States;X-APPLE-RADIUS=100;X-TITLE=DCS Morgan:geo:0,0
END:VEVENT
BEGIN:VEVENT
UID:30@southportland-arc.com
DTSTART;TZID=America/Los_Angeles:20260910T190000
DTEND;TZID=America/Los_Angeles:20260910T200000
DTSTAMP:20260423T141020Z
URL:https://southportland-arc.com/events/k2bsa-amateur-radio-association-k
 2bsa-net/
SUMMARY:K2BSA Amateur Radio Association (K2BSA) Net
DESCRIPTION:Club name: K2BSA Amateur Radio Association (K2BSA)\nEvent name:
  USA Radio Scouting Net - 9 PM Central — Echolink *JOTA-365* (#69808)\nE
 vent type: Net\nStart date: Thursday\, 2026-02-12 @ 19:00 PST\nEnd date: T
 hursday\, 2026-02-12 @ 20:00 PST\nLocation: Echolink *JOTA-365* (480809)\n
 \nEvent details:\nUSA Radio Scouting Net — open to all interested in sup
 porting amateur radio in Scouting. Topics include Jamboree on the Air\, Ja
 mboree amateur radio operation\, Radio Merit Badge\, Morse Code Interprete
 r Strip\, Summer Camp amateur radio activation\, ARRL Amateur Radio Servic
 e to Scouting Award\, Amateur Radio Operator Rating Strip\, and whatever t
 opic you bring to the net.\n\nLinks in this message are not to the net. Th
 is net uses Echolink software.\n\n&gt\;&gt\; To disable (or re-enable) rec
 eiving future event reminders for Net events click the following link:\nht
 tps://secure.hamclubonline.com/dne_events.php?id=25940299851235384&amp\;pi
 n=51274&amp\;cid=98&amp\;etid=424
CATEGORIES:Net
END:VEVENT
BEGIN:VEVENT
UID:19@southportland-arc.com
DTSTART;TZID=America/Los_Angeles:20261003T130000
DTEND;TZID=America/Los_Angeles:20261003T143000
DTSTAMP:20260423T141020Z
URL:https://southportland-arc.com/events/fcc-license-session/
SUMMARY:FCC License Session
DESCRIPTION:Amateur Radio license testing for Tech\, General and Extra clas
 ses.
CATEGORIES:License Session
LOCATION:Zoar Lutheran Church\, 190 SW 3rd Ave\, Canby\, OR\, 97013\, Unite
 d States
X-APPLE-STRUCTURED-LOCATION;VALUE=URI;X-ADDRESS=190 SW 3rd Ave\, Canby\, OR
 \, 97013\, United States;X-APPLE-RADIUS=100;X-TITLE=Zoar Lutheran Church:g
 eo:0,0
END:VEVENT
BEGIN:VEVENT
UID:11@southportland-arc.com
DTSTART;TZID=America/Los_Angeles:20261007T190000
DTEND;TZID=America/Los_Angeles:20261007T203000
DTSTAMP:20260423T141020Z
URL:https://southportland-arc.com/events/sparc-meeting/
SUMMARY:SPARC Meeting
DESCRIPTION:Our monthly SPARC meeting
LOCATION:DCS Morgan\, 1535 SE 3rd CT\, Canby\, OR\, 97013\, United States
X-APPLE-STRUCTURED-LOCATION;VALUE=URI;X-ADDRESS=1535 SE 3rd CT\, Canby\, OR
 \, 97013\, United States;X-APPLE-RADIUS=100;X-TITLE=DCS Morgan:geo:0,0
END:VEVENT
BEGIN:VEVENT
UID:31@southportland-arc.com
DTSTART;TZID=America/Los_Angeles:20261008T190000
DTEND;TZID=America/Los_Angeles:20261008T200000
DTSTAMP:20260423T141020Z
URL:https://southportland-arc.com/events/k2bsa-amateur-radio-association-k
 2bsa-net/
SUMMARY:K2BSA Amateur Radio Association (K2BSA) Net
DESCRIPTION:Club name: K2BSA Amateur Radio Association (K2BSA)\nEvent name:
  USA Radio Scouting Net - 9 PM Central — Echolink *JOTA-365* (#69808)\nE
 vent type: Net\nStart date: Thursday\, 2026-02-12 @ 19:00 PST\nEnd date: T
 hursday\, 2026-02-12 @ 20:00 PST\nLocation: Echolink *JOTA-365* (480809)\n
 \nEvent details:\nUSA Radio Scouting Net — open to all interested in sup
 porting amateur radio in Scouting. Topics include Jamboree on the Air\, Ja
 mboree amateur radio operation\, Radio Merit Badge\, Morse Code Interprete
 r Strip\, Summer Camp amateur radio activation\, ARRL Amateur Radio Servic
 e to Scouting Award\, Amateur Radio Operator Rating Strip\, and whatever t
 opic you bring to the net.\n\nLinks in this message are not to the net. Th
 is net uses Echolink software.\n\n&gt\;&gt\; To disable (or re-enable) rec
 eiving future event reminders for Net events click the following link:\nht
 tps://secure.hamclubonline.com/dne_events.php?id=25940299851235384&amp\;pi
 n=51274&amp\;cid=98&amp\;etid=424
CATEGORIES:Net
END:VEVENT
BEGIN:VEVENT
UID:12@southportland-arc.com
DTSTART;TZID=America/Los_Angeles:20261104T190000
DTEND;TZID=America/Los_Angeles:20261104T203000
DTSTAMP:20260423T141020Z
URL:https://southportland-arc.com/events/sparc-meeting/
SUMMARY:SPARC Meeting
DESCRIPTION:Our monthly SPARC meeting
LOCATION:DCS Morgan\, 1535 SE 3rd CT\, Canby\, OR\, 97013\, United States
X-APPLE-STRUCTURED-LOCATION;VALUE=URI;X-ADDRESS=1535 SE 3rd CT\, Canby\, OR
 \, 97013\, United States;X-APPLE-RADIUS=100;X-TITLE=DCS Morgan:geo:0,0
END:VEVENT
BEGIN:VEVENT
UID:32@southportland-arc.com
DTSTART;TZID=America/Los_Angeles:20261112T190000
DTEND;TZID=America/Los_Angeles:20261112T200000
DTSTAMP:20260423T141020Z
URL:https://southportland-arc.com/events/k2bsa-amateur-radio-association-k
 2bsa-net/
SUMMARY:K2BSA Amateur Radio Association (K2BSA) Net
DESCRIPTION:Club name: K2BSA Amateur Radio Association (K2BSA)\nEvent name:
  USA Radio Scouting Net - 9 PM Central — Echolink *JOTA-365* (#69808)\nE
 vent type: Net\nStart date: Thursday\, 2026-02-12 @ 19:00 PST\nEnd date: T
 hursday\, 2026-02-12 @ 20:00 PST\nLocation: Echolink *JOTA-365* (480809)\n
 \nEvent details:\nUSA Radio Scouting Net — open to all interested in sup
 porting amateur radio in Scouting. Topics include Jamboree on the Air\, Ja
 mboree amateur radio operation\, Radio Merit Badge\, Morse Code Interprete
 r Strip\, Summer Camp amateur radio activation\, ARRL Amateur Radio Servic
 e to Scouting Award\, Amateur Radio Operator Rating Strip\, and whatever t
 opic you bring to the net.\n\nLinks in this message are not to the net. Th
 is net uses Echolink software.\n\n&gt\;&gt\; To disable (or re-enable) rec
 eiving future event reminders for Net events click the following link:\nht
 tps://secure.hamclubonline.com/dne_events.php?id=25940299851235384&amp\;pi
 n=51274&amp\;cid=98&amp\;etid=424
CATEGORIES:Net
END:VEVENT
BEGIN:VEVENT
UID:13@southportland-arc.com
DTSTART;TZID=America/Los_Angeles:20261202T190000
DTEND;TZID=America/Los_Angeles:20261202T203000
DTSTAMP:20260423T141020Z
URL:https://southportland-arc.com/events/sparc-meeting/
SUMMARY:SPARC Meeting
DESCRIPTION:Our monthly SPARC meeting
LOCATION:DCS Morgan\, 1535 SE 3rd CT\, Canby\, OR\, 97013\, United States
X-APPLE-STRUCTURED-LOCATION;VALUE=URI;X-ADDRESS=1535 SE 3rd CT\, Canby\, OR
 \, 97013\, United States;X-APPLE-RADIUS=100;X-TITLE=DCS Morgan:geo:0,0
END:VEVENT
BEGIN:VEVENT
UID:20@southportland-arc.com
DTSTART;TZID=America/Los_Angeles:20261205T130000
DTEND;TZID=America/Los_Angeles:20261205T143000
DTSTAMP:20260423T141020Z
URL:https://southportland-arc.com/events/fcc-license-session/
SUMMARY:FCC License Session
DESCRIPTION:Amateur Radio license testing for Tech\, General and Extra clas
 ses.
CATEGORIES:License Session
LOCATION:Zoar Lutheran Church\, 190 SW 3rd Ave\, Canby\, OR\, 97013\, Unite
 d States
X-APPLE-STRUCTURED-LOCATION;VALUE=URI;X-ADDRESS=190 SW 3rd Ave\, Canby\, OR
 \, 97013\, United States;X-APPLE-RADIUS=100;X-TITLE=Zoar Lutheran Church:g
 eo:0,0
END:VEVENT
BEGIN:VEVENT
UID:33@southportland-arc.com
DTSTART;TZID=America/Los_Angeles:20261210T190000
DTEND;TZID=America/Los_Angeles:20261210T200000
DTSTAMP:20260423T141020Z
URL:https://southportland-arc.com/events/k2bsa-amateur-radio-association-k
 2bsa-net/
SUMMARY:K2BSA Amateur Radio Association (K2BSA) Net
DESCRIPTION:Club name: K2BSA Amateur Radio Association (K2BSA)\nEvent name:
  USA Radio Scouting Net - 9 PM Central — Echolink *JOTA-365* (#69808)\nE
 vent type: Net\nStart date: Thursday\, 2026-02-12 @ 19:00 PST\nEnd date: T
 hursday\, 2026-02-12 @ 20:00 PST\nLocation: Echolink *JOTA-365* (480809)\n
 \nEvent details:\nUSA Radio Scouting Net — open to all interested in sup
 porting amateur radio in Scouting. Topics include Jamboree on the Air\, Ja
 mboree amateur radio operation\, Radio Merit Badge\, Morse Code Interprete
 r Strip\, Summer Camp amateur radio activation\, ARRL Amateur Radio Servic
 e to Scouting Award\, Amateur Radio Operator Rating Strip\, and whatever t
 opic you bring to the net.\n\nLinks in this message are not to the net. Th
 is net uses Echolink software.\n\n&gt\;&gt\; To disable (or re-enable) rec
 eiving future event reminders for Net events click the following link:\nht
 tps://secure.hamclubonline.com/dne_events.php?id=25940299851235384&amp\;pi
 n=51274&amp\;cid=98&amp\;etid=424
CATEGORIES:Net
END:VEVENT
BEGIN:VTIMEZONE
TZID:America/Los_Angeles
X-LIC-LOCATION:America/Los_Angeles
BEGIN:STANDARD
DTSTART:20251102T010000
TZOFFSETFROM:-0700
TZOFFSETTO:-0800
TZNAME:PST
END:STANDARD
BEGIN:DAYLIGHT
DTSTART:20260308T030000
TZOFFSETFROM:-0800
TZOFFSETTO:-0700
TZNAME:PDT
END:DAYLIGHT
BEGIN:STANDARD
DTSTART:20261101T010000
TZOFFSETFROM:-0700
TZOFFSETTO:-0800
TZNAME:PST
END:STANDARD
END:VTIMEZONE
END:VCALENDAR